Workbook

Sheet 1 - Spelerslijst
A1: CODE | B1: SPELER | C1: LINIE | D1: WAARDE
B3: ADO Den Haag
A4: ADO11 | B4: Keeper ADO | C4: KEEP | D4: 5000000
A6: ADO31 | B6: Mattteo Waem | C6: VERD | D6: 6000000
A7: ADO32 | B7: Sekou Sylla | C7: VERD | D7: 6000000
A8: ADO33 | B8: Milan Hokke | C8: VERD | D8: 5000000
A9: ADO34 | B9: Pascal Mulder | C9: VERD | D9: 5000000
A10: ADO35 | B10: Sanyika Bergtop | C10: VERD | D10: 5000000
A11: ADO36 | B11: Lasse Wilhelm | C11: VERD | D11: 5000000
A13: ADO51 | B13: Evan Rottier | C13: MIDD | D13: 7000000
A14: ADO52 | B14: Juho Kilo | C14: MIDD | D14: 7000000
A15: ADO53 | B15: Jan Zamburek | C15: MIDD | D15: 7000000
A16: ADO54 | B16: Mylian Jiménez | C16: MIDD | D16: 6000000
A17: ADO55 | B17: Finn de Bruin | C17: MIDD | D17: 5000000
... A27: ADO79 | B27: Dani van Loenen | C27: AANV | D27: 5000000
A28: ADO80 | B28: Yannick Eduardo | C28: AANV | D28: 7000000 | E28: Nieuw
B31: Ajax
A32: AJA11 | B32: Keeper AJA | C32: KEEP | D32: 14000000
A34: AJA31 | B34: Youri Baas | C34: VERD | D34: 15000000
A35: AJA32 | B35: Ko Itakura | C35: VERD | D35: 14000000
A36: AJA33 | B36: Josip Sutalo | C36: VERD | D36: 13000000
A37: AJA34 | B37: Dies Janse | C37: VERD | D37: 13000000
A38: AJA35 | B38: Caio Henrique | C38: VERD | D38: 13000000
A39: AJA36 | B39: Daley Blind | C39: VERD | D39: 12000000
A40: AJA37 | B40: Anton Gaaei | C40: VERD | D40: 12000000
A41: AJA38 | B41: Lucas Rosa | C41: VERD | D41: 12000000
A42: AJA39 | B42: Aaron Bouwman | C42: VERD | D42: 11000000
A43: AJA40 | B43: Owen Wijndal | C43: VERD | D43: 10000000
A44: AJA41 | B44: Ahmetcan Kaplan | C44: VERD | D44: 9000000
... A50: XXX55 | B50: Kian Fitz-Jim | C50: MIDD | D50: 9000000
A51: AJA56 | B51: Abdellah Ouazane | C51: MIDD | D51: 11000000 | E51: Nieuw
A52: AJA57 | B52: Julian Brandt | C52: MIDD | D52: 18000000 | E52: Nieuw
A54: AJA71 | B54: Mika Godts | C54: AANV | D54: 21000000
A55: AJA72 | B55: Kasper Dolberg | C55: AANV | D55: 14000000
A56: AJA73 | B56: Steven Berghuis | C56: AANV | D56: 13000000
A57: AJA74 | B57: Rayane Bounida | C57: AANV | D57: 13000000
A58: AJA75 | B58: Maher Carrizo | C58: AANV | D58: 11000000
A59: AJA76 | B59: Oliver Valaker Edvardsen | C59: AANV | D59: 10000000
A60: AJA77 | B60: Don-Angelo Konadu | C60: AANV | D60: 9000000
A61: AJA78 | B61: Marcos Leonardo | C61: AANV | D61: 18000000 | E61: Nieuw
...

Sheet 2 - Deelnameformulier
C1: NAAM
B2: Pos. | D2: CODE | E2: SPELER | F2: Bedrag
B3: Keeper | C3: 1 | E3: =IF(ISERROR(VLOOKUP(D3,'1 - Spelerslijst'!A:D,2,FALSE))," ",VLOOKUP(D3,'1 - Spelerslijst'!A:D,2,FALSE)) | F3: =IF(ISERROR(VLOOKUP(D3,'1 - Spelerslijst'!A:D,4,FALSE))," ",VLOOKUP(D3,'1 - Spelerslijst'!A:D,4,FALSE))
B4: Verdediger 1 | C4: 2 | E4: =IF(ISERROR(VLOOKUP(D4,'1 - Spelerslijst'!A:D,2,FALSE))," ",VLOOKUP(D4,'1 - Spelerslijst'!A:D,2,FALSE)) | F4: =IF(ISERROR(VLOOKUP(D4,'1 - Spelerslijst'!A:D,4,FALSE))," ",VLOOKUP(D4,'1 - Spelerslijst'!A:D,4,FALSE)) | H4: CONTROLE
B5: Verdediger 2 | C5: 3 | E5: =IF(ISERROR(VLOOKUP(D5,'1 - Spelerslijst'!A:D,2,FALSE))," ",VLOOKUP(D5,'1 - Spelerslijst'!A:D,2,FALSE)) | F5: =IF(ISERROR(VLOOKUP(D5,'1 - Spelerslijst'!A:D,4,FALSE))," ",VLOOKUP(D5,'1 - Spelerslijst'!A:D,4,FALSE)) | H5: Heb je je naam ingevuld in cel D1? | I5: =IF(D1=0,"X","OK") -> X
B6: Verdediger 3 | C6: 4 | E6: =IF(ISERROR(VLOOKUP(D6,'1 - Spelerslijst'!A:D,2,FALSE))," ",VLOOKUP(D6,'1 - Spelerslijst'!A:D,2,FALSE)) | F6: =IF(ISERROR(VLOOKUP(D6,'1 - Spelerslijst'!A:D,4,FALSE))," ",VLOOKUP(D6,'1 - Spelerslijst'!A:D,4,FALSE)) | H6: Heb je een code voor 14 spelers ingevuld? | I6: =IF(D100=TRUE,"X","OK") -> X
B7: Verdediger 4 | C7: 5 | E7: =IF(ISERROR(VLOOKUP(D7,'1 - Spelerslijst'!A:D,2,FALSE))," ",VLOOKUP(D7,'1 - Spelerslijst'!A:D,2,FALSE)) | F7: =IF(ISERROR(VLOOKUP(D7,'1 - Spelerslijst'!A:D,4,FALSE))," ",VLOOKUP(D7,'1 - Spelerslijst'!A:D,4,FALSE)) | H7: Ben je binnen het budget van 180 miljoen gebleven? | I7: =IF(F17<180000001,"OK","X") -> OK
B8: Middenvelder 1 | C8: 6 | E8: =IF(ISERROR(VLOOKUP(D8,'1 - Spelerslijst'!A:D,2,FALSE))," ",VLOOKUP(D8,'1 - Spelerslijst'!A:D,2,FALSE)) | F8: =IF(ISERROR(VLOOKUP(D8,'1 - Spelerslijst'!A:D,4,FALSE))," ",VLOOKUP(D8,'1 - Spelerslijst'!A:D,4,FALSE)) | H8: Heb je 14 spelers (11 basis, 3 reserve) van 14 verschillende clubs gekozen? | I8: =IF(E117=TRUE,"X","OK") -> X
B9: Middenvelder 2 | C9: 7 | E9: =IF(ISERROR(VLOOKUP(D9,'1 - Spelerslijst'!A:D,2,FALSE))," ",VLOOKUP(D9,'1 - Spelerslijst'!A:D,2,FALSE)) | F9: =IF(ISERROR(VLOOKUP(D9,'1 - Spelerslijst'!A:D,4,FALSE))," ",VLOOKUP(D9,'1 - Spelerslijst'!A:D,4,FALSE)) | H9: Heb je de spelers in de juiste linie ingevuld? | I9: =IF(E135=TRUE,"X","OK") -> X
B10: Middenvelder 3 | C10: 8 | E10: =IF(ISERROR(VLOOKUP(D10,'1 - Spelerslijst'!A:D,2,FALSE))," ",VLOOKUP(D10,'1 - Spelerslijst'!A:D,2,FALSE)) | F10: =IF(ISERROR(VLOOKUP(D10,'1 - Spelerslijst'!A:D,4,FALSE))," ",VLOOKUP(D10,'1 - Spelerslijst'!A:D,4,FALSE))
B11: Aanvaller 1 | C11: 9 | E11: =IF(ISERROR(VLOOKUP(D11,'1 - Spelerslijst'!A:D,2,FALSE))," ",VLOOKUP(D11,'1 - Spelerslijst'!A:D,2,FALSE)) | F11: =IF(ISERROR(VLOOKUP(D11,'1 - Spelerslijst'!A:D,4,FALSE))," ",VLOOKUP(D11,'1 - Spelerslijst'!A:D,4,FALSE))
B12: Aanvaller 2 | C12: 10 | E12: =IF(ISERROR(VLOOKUP(D12,'1 - Spelerslijst'!A:D,2,FALSE))," ",VLOOKUP(D12,'1 - Spelerslijst'!A:D,2,FALSE)) | F12: =IF(ISERROR(VLOOKUP(D12,'1 - Spelerslijst'!A:D,4,FALSE))," ",VLOOKUP(D12,'1 - Spelerslijst'!A:D,4,FALSE))
B13: Aanvaller 3 | C13: 11 | E13: =IF(ISERROR(VLOOKUP(D13,'1 - Spelerslijst'!A:D,2,FALSE))," ",VLOOKUP(D13,'1 - Spelerslijst'!A:D,2,FALSE)) | F13: =IF(ISERROR(VLOOKUP(D13,'1 - Spelerslijst'!A:D,4,FALSE))," ",VLOOKUP(D13,'1 - Spelerslijst'!A:D,4,FALSE)) | H13: Alleen insturen wanneer je 5 keer "OK" ziet staan in de tabel
B14: Reserve-verdediger | C14: 12 | E14: =IF(ISERROR(VLOOKUP(D14,'1 - Spelerslijst'!A:D,2,FALSE))," ",VLOOKUP(D14,'1 - Spelerslijst'!A:D,2,FALSE)) | F14: =IF(ISERROR(VLOOKUP(D14,'1 - Spelerslijst'!A:D,4,FALSE))," ",VLOOKUP(D14,'1 - Spelerslijst'!A:D,4,FALSE)) | H14: (vul alleen groene cellen in)
B15: Reserve-middenvelder | C15: 13 | E15: =IF(ISERROR(VLOOKUP(D15,'1 - Spelerslijst'!A:D,2,FALSE))," ",VLOOKUP(D15,'1 - Spelerslijst'!A:D,2,FALSE)) | F15: =IF(ISERROR(VLOOKUP(D15,'1 - Spelerslijst'!A:D,4,FALSE))," ",VLOOKUP(D15,'1 - Spelerslijst'!A:D,4,FALSE))
B16: Reserve-aanvaller | C16: 14 | E16: =IF(ISERROR(VLOOKUP(D16,'1 - Spelerslijst'!A:D,2,FALSE))," ",VLOOKUP(D16,'1 - Spelerslijst'!A:D,2,FALSE)) | F16: =IF(ISERROR(VLOOKUP(D16,'1 - Spelerslijst'!A:D,4,FALSE))," ",VLOOKUP(D16,'1 - Spelerslijst'!A:D,4,FALSE))
F17: =SUM(F3:F16) -> 0
C19: Voorspel de eindstand van de Eredivisie hier:
C20: 1 | E20: =VLOOKUP(D20,$C$184:$D$202,2,FALSE) -> #N/A | H20: Voorspelling eindstand Eredivisie Voorspel de nummers 1 tot en met 18 van de ranglijst, door in het keuzemenu van kolom D (de groene cellen) de club te kiezen. Voor elke club krijg je strafpunten voor het aantal posities dat jouw voorspelling afwijkt van de daadwerkelijke positie in de ranglijst. De deelnemer met de minste "strafpunten" wint. Let goed op dat je alle 18 verschillende clubs één keer selecteert. Deelname aan dit aparte spel komt dit seizoen in de plaats van het Totospel dat wij in het verleden in de tweede seizoenshelft organiseerden. Deelname aan dit spel is inbegrepen in het deelnamebedrag voor S11manager.
C21: 2 | E21: =VLOOKUP(D21,$C$184:$D$202,2,FALSE) -> #N/A
C22: 3 | E22: =VLOOKUP(D22,$C$184:$D$202,2,FALSE) -> #N/A
C23: 4 | E23: =VLOOKUP(D23,$C$184:$D$202,2,FALSE) -> #N/A
C24: 5 | E24: =VLOOKUP(D24,$C$184:$D$202,2,FALSE) -> #N/A
C25: 6 | E25: =VLOOKUP(D25,$C$184:$D$202,2,FALSE) -> #N/A
C26: 7 | E26: =VLOOKUP(D26,$C$184:$D$202,2,FALSE) -> #N/A
C27: 8 | E27: =VLOOKUP(D27,$C$184:$D$202,2,FALSE) -> #N/A
C28: 9 | E28: =VLOOKUP(D28,$C$184:$D$202,2,FALSE) -> #N/A
C29: 10 | E29: =VLOOKUP(D29,$C$184:$D$202,2,FALSE) -> #N/A
C30: 11 | E30: =VLOOKUP(D30,$C$184:$D$202,2,FALSE) -> #N/A
C31: 12 | E31: =VLOOKUP(D31,$C$184:$D$202,2,FALSE) -> #N/A
C32: 13 | E32: =VLOOKUP(D32,$C$184:$D$202,2,FALSE) -> #N/A
... C37: 18 | E37: =VLOOKUP(D37,$C$184:$D$202,2,FALSE) -> #N/A
D99: =IF(ISERROR(VLOOKUP(D3,#REF!,2,FALSE))," ",VLOOKUP(D3,#REF!,2,FALSE))
D100: =OR(D3=0,D4=0,D5=0,D6=0,D7=0,D8=0,D9=0,D10=0,D11=0,D12=0,D13=0,D14=0,D15=0,D16=0) -> TRUE | E100: Controle alle spelers ingevuld
D102: Controle 14 verschillende codes
C103: 1 | D103: =LEFT(D3,3) | E103: =OR(D103=D$104,D103=D$105,D103=D$106,D103=D$107,D103=D$108,D103=D$109,D103=D$110,D103=D$111,D103=D$112,D103=D$113,D103=D$114,D103=D$115,D103=D$116) -> TRUE
C104: 2 | D104: =LEFT(D4,3) | E104: =OR(D104=D$103,D104=D$105,D104=D$106,D104=D$107,D104=D$108,D104=D$109,D104=D$110,D104=D$111,D104=D$112,D104=D$113,D104=D$114,D104=D$115,D104=D$116) -> TRUE
C105: 3 | D105: =LEFT(D5,3) | E105: =OR(D105=D$104,D105=D$103,D105=D$106,D105=D$107,D105=D$108,D105=D$109,D105=D$110,D105=D$111,D105=D$112,D105=D$113,D105=D$114,D105=D$115,D105=D$116) -> TRUE
C106: 4 | D106: =LEFT(D6,3) | E106: =OR(D106=D$104,D106=D$105,D106=D$103,D106=D$107,D106=D$108,D106=D$109,D106=D$110,D106=D$111,D106=D$112,D106=D$113,D106=D$114,D106=D$115,D106=D$116) -> TRUE
C107: 5 | D107: =LEFT(D7,3) | E107: =OR(D107=D$104,D107=D$105,D107=D$106,D107=D$103,D107=D$108,D107=D$109,D107=D$110,D107=D$111,D107=D$112,D107=D$113,D107=D$114,D107=D$115,D107=D$116) -> TRUE
...

Sheet 3 - Statistieken 25-26
A1: CODE | B1: SPELER | C1: LINIE | D1: Tot
A2: FEY | B2: Ayase Ueda | C2: AANV | D2: 157
A3: PSV | B3: Ismael Saibari | C3: MIDD | D3: 154
A4: PSV | B4: Guus Til | C4: MIDD | D4: 150
A5: AJA | B5: Mika Godts | C5: AANV | D5: 142
A6: PSV | B6: Joey Veerman | C6: MIDD | D6: 139
A7: PSV | B7: Ricardo Pepi | C7: AANV | D7: 126
A8: PSV | B8: Ivan Perisic | C8: AANV | D8: 119
A9: PSV | B9: Sven Mijnans | C9: MIDD | D9: 113
A10: TWE | B10: Kristian Hlynsson | C10: MIDD | D10: 113
A11: FEY | B11: Jordan Bos | C11: VERD | D11: 108
A12: NEC | B12: Bryan Linssen | C12: AANV | D12: 108
A13: FEY | B13: Anis Hadj-Moussa | C13: AANV | D13: 107
... A521: ZWO | B521: David Voute | C521: VERD | D521: -4
