Workbook

Sheet 1 - Spelerslijst
A1: CODE | B1: SPELER | C1: LINIE | D1: WAARDE
B3: ADO Den Haag
A4: ADO11 | B4: Keeper ADO | C4: KEEP | D4: 5000000
A6: ADO31 | B6: Mattteo Waem | C6: VERD | D6: 6000000
A7: ADO32 | B7: Sekou Sylla | C7: VERD | D7: 6000000
A8: ADO33 | B8: Milan Hokke | C8: VERD | D8: 5000000
A9: ADO34 | B9: Pascal Mulder | C9: VERD | D9: 5000000
A10: ADO35 | B10: Sanyika Bergtop | C10: VERD | D10: 5000000
A11: ADO36 | B11: Lasse Wilhelm | C11: VERD | D11: 5000000
A13: ADO51 | B13: Evan Rottier | C13: MIDD | D13: 7000000
A14: ADO52 | B14: Juho Kilo | C14: MIDD | D14: 7000000
A15: ADO53 | B15: Jan Zamburek | C15: MIDD | D15: 7000000
A16: ADO54 | B16: Mylian Jiménez | C16: MIDD | D16: 6000000
A17: ADO55 | B17: Finn de Bruin | C17: MIDD | D17: 5000000
... A27: ADO79 | B27: Dani van Loenen | C27: AANV | D27: 5000000
A28: ADO80 | B28: Yannick Eduardo | C28: AANV | D28: 7000000 | E28: Nieuw
B31: Ajax
A32: AJA11 | B32: Keeper AJA | C32: KEEP | D32: 14000000
A34: AJA31 | B34: Youri Baas | C34: VERD | D34: 15000000
A35: AJA32 | B35: Ko Itakura | C35: VERD | D35: 14000000
A36: AJA33 | B36: Josip Sutalo | C36: VERD | D36: 13000000
A37: AJA34 | B37: Dies Janse | C37: VERD | D37: 13000000
A38: AJA35 | B38: Caio Henrique | C38: VERD | D38: 13000000
A39: AJA36 | B39: Daley Blind | C39: VERD | D39: 12000000
A40: AJA37 | B40: Anton Gaaei | C40: VERD | D40: 12000000
A41: AJA38 | B41: Lucas Rosa | C41: VERD | D41: 12000000
A42: AJA39 | B42: Aaron Bouwman | C42: VERD | D42: 11000000
A43: AJA40 | B43: Owen Wijndal | C43: VERD | D43: 10000000
A44: AJA41 | B44: Ahmetcan Kaplan | C44: VERD | D44: 9000000
... A50: XXX55 | B50: Kian Fitz-Jim | C50: MIDD | D50: 9000000
A51: AJA56 | B51: Abdellah Ouazane | C51: MIDD | D51: 11000000 | E51: Nieuw
A52: AJA57 | B52: Julian Brandt | C52: MIDD | D52: 18000000 | E52: Nieuw
A54: AJA71 | B54: Mika Godts | C54: AANV | D54: 21000000
A55: AJA72 | B55: Kasper Dolberg | C55: AANV | D55: 14000000
A56: AJA73 | B56: Steven Berghuis | C56: AANV | D56: 13000000
A57: AJA74 | B57: Rayane Bounida | C57: AANV | D57: 13000000
A58: AJA75 | B58: Maher Carrizo | C58: AANV | D58: 11000000
A59: AJA76 | B59: Oliver Valaker Edvardsen | C59: AANV | D59: 10000000
A60: AJA77 | B60: Don-Angelo Konadu | C60: AANV | D60: 9000000
A61: AJA78 | B61: Marcos Leonardo | C61: AANV | D61: 18000000 | E61: Nieuw
A62: AJA79 | B62: Tolu Arokodare | C62: AANV | D62: 15000000 | E62: Nieuw
B65: AZ Alkmaar
A66: AZA11 | B66: Keeper AZA | C66: KEEP | D66: 13000000
A68: AZA31 | B68: Mees de Wit | C68: VERD | D68: 14000000
A69: AZA32 | B69: Denso Kasius | C69: VERD | D69: 13000000
A70: XXX33 | B70: Alexandre Penetra | C70: VERD | D70: 12000000
A71: AZA34 | B71: Wouter Goes | C71: VERD | D71: 11000000
A72: AZA35 | B72: Mateo Chávez | C72: VERD | D72: 10000000
A73: AZA36 | B73: Elija Dijkstra | C73: VERD | D73: 10000000
A74: AZA37 | B74: Seiya Maikuma | C74: VERD | D74: 10000000
A75: AZA38 | B75: Billy van Duijl | C75: VERD | D75: 9000000
A76: AZA39 | B76: Rion Ichihara | C76: VERD | D76: 8000000
A77: AZA40 | B77: Lewis Schouten | C77: VERD | D77: 8000000
A78: AZA41 | B78: Sam de Grand | C78: VERD | D78: 10000000 | E78: Nieuw
A80: AZA51 | B80: Kees Smit | C80: MIDD | D80: 13000000
A81: AZA52 | B81: Peer Koopmeiners | C81: MIDD | D81: 11000000
A82: AZA53 | B82: Jordy Clasie | C82: MIDD | D82: 10000000
A83: AZA54 | B83: Matej Sin | C83: MIDD | D83: 9000000
A84: AZA55 | B84: Dave Kwakman | C84: MIDD | D84: 8000000
A85: XXX56 | B85: Kasper Boogaard | C85: MIDD | D85: 7000000
A86: AZA57 | B86: Calvin Stengs | C86: MIDD | D86: 11000000 | E86: Nieuw
A88: AZA71 | B88: Troy Parrott | C88: AANV | D88: 17000000
A89: AZA72 | B89: Mexx Meerdink | C89: AANV | D89: 14000000
A90: AZA73 | B90: Isak Jensen | C90: AANV | D90: 13000000
A91: AZA74 | B91: Jizz Hornkamp | C91: AANV | D91: 12000000
A92: AZA75 | B92: Weslley Patati | C92: AANV | D92: 12000000
A93: AZA76 | B93: Ibrahim Sadiq | C93: AANV | D93: 11000000
A94: AZA77 | B94: Ro-Zangelo Daal | C94: AANV | D94: 10000000
A95: AZA78 | B95: Ayoub Oufkir | C95: AANV | D95: 10000000
A96: AZA79 | B96: Sem van Duijn | C96: AANV | D96: 10000000
B99: SC Cambuur
A100: CAM11 | B100: Keeper CAM | C100: KEEP | D100: 5000000
A102: CAM31 | B102: Ismaël Baouf | C102: VERD | D102: 6000000
A103: CAM32 | B103: Jamal Amofa | C103: VERD | D103: 6000000
A104: CAM33 | B104: Jorn Berkhout | C104: VERD | D104: 5000000
A105: CAM34 | B105: Lucas Jetten | C105: VERD | D105: 5000000
A106: CAM35 | B106: Morgan Costarelli | C106: VERD | D106: 5000000
A107: CAM36 | B107: Rik Mulders | C107: VERD | D107: 5000000
A108: CAM37 | B108: Ryan van de Pavert | C108: VERD | D108: 5000000
A109: CAM38 | B109: Buddy Vogelzang | C109: VERD | D109: 5000000 | E109: Nieuw
A110: CAM39 | B110: Amar Bakkati | C110: VERD | D110: 5000000 | E110: Nieuw
A112: CAM51 | B112: Nicky Souren | C112: MIDD | D112: 6000000
A113: CAM52 | B113: Ethan Apkakou | C113: MIDD | D113: 5000000
A114: CAM53 | B114: Daan Visser | C114: MIDD | D114: 5000000
A115: CAM54 | B115: Wiebe van der Heide | C115: MIDD | D115: 5000000 | E115: Nieuw
A116: CAM55 | B116: Rafik El Arguioui | C116: MIDD | D116: 6000000 | E116: Nieuw
A117: CAM56 | B117: Damian Westerhof | C117: MIDD | D117: 5000000 | E117: Nieuw
A119: CAM71 | B119: Iwan Henstra | C119: AANV | D119: 6000000
A120: CAM72 | B120: Skye Vink | C120: AANV | D120: 6000000
A121: CAM73 | B121: Fabian Kvam | C121: AANV | D121: 5000000
A122: CAM74 | B122: Wiebe Kooistra | C122: AANV | D122: 5000000
A123: CAM75 | B123: Nicolas Binder | C123: AANV | D123: 5000000
A124: CAM76 | B124: Ilyes Hamache | C124: AANV | D124: 5000000
A125: CAM77 | B125: Sami Bouhoudane | C125: AANV | D125: 6000000 | E125: Nieuw
B128: Excelsior
A129: EXC11 | B129: Keeper EXC | C129: KEEP | D129: 9000000
A131: EXC31 | B131: Casper Widell | C131: VERD | D131: 9000000
A132: EXC32 | B132: Rick Meissen | C132: VERD | D132: 8000000
A133: EXC33 | B133: Jan Plug | C133: VERD | D133: 8000000
A134: EXC34 | B134: Nolan Martens | C134: VERD | D134: 7000000
...

Sheet 2 - Deelnameformulier
C1: NAAM
B2: Pos. | D2: CODE | E2: SPELER | F2: Bedrag
B3: Keeper | C3: 1 | E3: =IF(ISERROR(VLOOKUP(D3,'1 - Spelerslijst'!A:D,2,FALSE))," ",VLOOKUP(D3,'1 - Spelerslijst'!A:D,2,FALSE)) | F3: =IF(ISERROR(VLOOKUP(D3,'1 - Spelerslijst'!A:D,4,FALSE))," ",VLOOKUP(D3,'1 - Spelerslijst'!A:D,4,FALSE))
B4: Verdediger 1 | C4: 2 | E4: =IF(ISERROR(VLOOKUP(D4,'1 - Spelerslijst'!A:D,2,FALSE))," ",VLOOKUP(D4,'1 - Spelerslijst'!A:D,2,FALSE)) | F4: =IF(ISERROR(VLOOKUP(D4,'1 - Spelerslijst'!A:D,4,FALSE))," ",VLOOKUP(D4,'1 - Spelerslijst'!A:D,4,FALSE)) | H4: CONTROLE
B5: Verdediger 2 | C5: 3 | E5: =IF(ISERROR(VLOOKUP(D5,'1 - Spelerslijst'!A:D,2,FALSE))," ",VLOOKUP(D5,'1 - Spelerslijst'!A:D,2,FALSE)) | F5: =IF(ISERROR(VLOOKUP(D5,'1 - Spelerslijst'!A:D,4,FALSE))," ",VLOOKUP(D5,'1 - Spelerslijst'!A:D,4,FALSE)) | H5: Heb je je naam ingevuld in cel D1? | I5: =IF(D1=0,"X","OK") -> X
B6: Verdediger 3 | C6: 4 | E6: =IF(ISERROR(VLOOKUP(D6,'1 - Spelerslijst'!A:D,2,FALSE))," ",VLOOKUP(D6,'1 - Spelerslijst'!A:D,2,FALSE)) | F6: =IF(ISERROR(VLOOKUP(D6,'1 - Spelerslijst'!A:D,4,FALSE))," ",VLOOKUP(D6,'1 - Spelerslijst'!A:D,4,FALSE)) | H6: Heb je een code voor 14 spelers ingevuld? | I6: =IF(D100=TRUE,"X","OK") -> X
B7: Verdediger 4 | C7: 5 | E7: =IF(ISERROR(VLOOKUP(D7,'1 - Spelerslijst'!A:D,2,FALSE))," ",VLOOKUP(D7,'1 - Spelerslijst'!A:D,2,FALSE)) | F7: =IF(ISERROR(VLOOKUP(D7,'1 - Spelerslijst'!A:D,4,FALSE))," ",VLOOKUP(D7,'1 - Spelerslijst'!A:D,4,FALSE)) | H7: Ben je binnen het budget van 180 miljoen gebleven? | I7: =IF(F17<180000001,"OK","X") -> OK
B8: Middenvelder 1 | C8: 6 | E8: =IF(ISERROR(VLOOKUP(D8,'1 - Spelerslijst'!A:D,2,FALSE))," ",VLOOKUP(D8,'1 - Spelerslijst'!A:D,2,FALSE)) | F8: =IF(ISERROR(VLOOKUP(D8,'1 - Spelerslijst'!A:D,4,FALSE))," ",VLOOKUP(D8,'1 - Spelerslijst'!A:D,4,FALSE)) | H8: Heb je 14 spelers (11 basis, 3 reserve) van 14 verschillende clubs gekozen? | I8: =IF(E117=TRUE,"X","OK") -> X
B9: Middenvelder 2 | C9: 7 | E9: =IF(ISERROR(VLOOKUP(D9,'1 - Spelerslijst'!A:D,2,FALSE))," ",VLOOKUP(D9,'1 - Spelerslijst'!A:D,2,FALSE)) | F9: =IF(ISERROR(VLOOKUP(D9,'1 - Spelerslijst'!A:D,4,FALSE))," ",VLOOKUP(D9,'1 - Spelerslijst'!A:D,4,FALSE)) | H9: Heb je de spelers in de juiste linie ingevuld? | I9: =IF(E135=TRUE,"X","OK") -> X
B10: Middenvelder 3 | C10: 8 | E10: =IF(ISERROR(VLOOKUP(D10,'1 - Spelerslijst'!A:D,2,FALSE))," ",VLOOKUP(D10,'1 - Spelerslijst'!A:D,2,FALSE)) | F10: =IF(ISERROR(VLOOKUP(D10,'1 - Spelerslijst'!A:D,4,FALSE))," ",VLOOKUP(D10,'1 - Spelerslijst'!A:D,4,FALSE))
B11: Aanvaller 1 | C11: 9 | E11: =IF(ISERROR(VLOOKUP(D11,'1 - Spelerslijst'!A:D,2,FALSE))," ",VLOOKUP(D11,'1 - Spelerslijst'!A:D,2,FALSE)) | F11: =IF(ISERROR(VLOOKUP(D11,'1 - Spelerslijst'!A:D,4,FALSE))," ",VLOOKUP(D11,'1 - Spelerslijst'!A:D,4,FALSE))
B12: Aanvaller 2 | C12: 10 | E12: =IF(ISERROR(VLOOKUP(D12,'1 - Spelerslijst'!A:D,2,FALSE))," ",VLOOKUP(D12,'1 - Spelerslijst'!A:D,2,FALSE)) | F12: =IF(ISERROR(VLOOKUP(D12,'1 - Spelerslijst'!A:D,4,FALSE))," ",VLOOKUP(D12,'1 - Spelerslijst'!A:D,4,FALSE))
B13: Aanvaller 3 | C13: 11 | E13: =IF(ISERROR(VLOOKUP(D13,'1 - Spelerslijst'!A:D,2,FALSE))," ",VLOOKUP(D13,'1 - Spelerslijst'!A:D,2,FALSE)) | F13: =IF(ISERROR(VLOOKUP(D13,'1 - Spelerslijst'!A:D,4,FALSE))," ",VLOOKUP(D13,'1 - Spelerslijst'!A:D,4,FALSE)) | H13: Alleen insturen wanneer je 5 keer "OK" ziet staan in de tabel
B14: Reserve-verdediger | C14: 12 | E14: =IF(ISERROR(VLOOKUP(D14,'1 - Spelerslijst'!A:D,2,FALSE))," ",VLOOKUP(D14,'1 - Spelerslijst'!A:D,2,FALSE)) | F14: =IF(ISERROR(VLOOKUP(D14,'1 - Spelerslijst'!A:D,4,FALSE))," ",VLOOKUP(D14,'1 - Spelerslijst'!A:D,4,FALSE)) | H14: (vul alleen groene cellen in)
B15: Reserve-middenvelder | C15: 13 | E15: =IF(ISERROR(VLOOKUP(D15,'1 - Spelerslijst'!A:D,2,FALSE))," ",VLOOKUP(D15,'1 - Spelerslijst'!A:D,2,FALSE)) | F15: =IF(ISERROR(VLOOKUP(D15,'1 - Spelerslijst'!A:D,4,FALSE))," ",VLOOKUP(D15,'1 - Spelerslijst'!A:D,4,FALSE))
B16: Reserve-aanvaller | C16: 14 | E16: =IF(ISERROR(VLOOKUP(D16,'1 - Spelerslijst'!A:D,2,FALSE))," ",VLOOKUP(D16,'1 - Spelerslijst'!A:D,2,FALSE)) | F16: =IF(ISERROR(VLOOKUP(D16,'1 - Spelerslijst'!A:D,4,FALSE))," ",VLOOKUP(D16,'1 - Spelerslijst'!A:D,4,FALSE))
F17: =SUM(F3:F16) -> 0
C19: Voorspel de eindstand van de Eredivisie hier:
C20: 1 | E20: =VLOOKUP(D20,$C$184:$D$202,2,FALSE) -> #N/A | H20: Voorspelling eindstand Eredivisie Voorspel de nummers 1 tot en met 18 van de ranglijst, door in het keuzemenu van kolom D (de groene cellen) de club te kiezen. Voor elke club krijg je strafpunten voor het aantal posities dat jouw voorspelling afwijkt van de daadwerkelijke positie in de ranglijst. De deelnemer met de minste "strafpunten" wint. Let goed op dat je alle 18 verschillende clubs één keer selecteert. Deelname aan dit aparte spel komt dit seizoen in de plaats van het Totospel dat wij in het verleden in de tweede seizoenshelft organiseerden. Deelname aan dit spel is inbegrepen in het deelnamebedrag voor S11manager.
C21: 2 | E21: =VLOOKUP(D21,$C$184:$D$202,2,FALSE) -> #N/A
C22: 3 | E22: =VLOOKUP(D22,$C$184:$D$202,2,FALSE) -> #N/A
C23: 4 | E23: =VLOOKUP(D23,$C$184:$D$202,2,FALSE) -> #N/A
C24: 5 | E24: =VLOOKUP(D24,$C$184:$D$202,2,FALSE) -> #N/A
C25: 6 | E25: =VLOOKUP(D25,$C$184:$D$202,2,FALSE) -> #N/A
C26: 7 | E26: =VLOOKUP(D26,$C$184:$D$202,2,FALSE) -> #N/A
C27: 8 | E27: =VLOOKUP(D27,$C$184:$D$202,2,FALSE) -> #N/A
C28: 9 | E28: =VLOOKUP(D28,$C$184:$D$202,2,FALSE) -> #N/A
C29: 10 | E29: =VLOOKUP(D29,$C$184:$D$202,2,FALSE) -> #N/A
C30: 11 | E30: =VLOOKUP(D30,$C$184:$D$202,2,FALSE) -> #N/A
C31: 12 | E31: =VLOOKUP(D31,$C$184:$D$202,2,FALSE) -> #N/A
C32: 13 | E32: =VLOOKUP(D32,$C$184:$D$202,2,FALSE) -> #N/A
... C37: 18 | E37: =VLOOKUP(D37,$C$184:$D$202,2,FALSE) -> #N/A
D99: =IF(ISERROR(VLOOKUP(D3,#REF!,2,FALSE))," ",VLOOKUP(D3,#REF!,2,FALSE))
D100: =OR(D3=0,D4=0,D5=0,D6=0,D7=0,D8=0,D9=0,D10=0,D11=0,D12=0,D13=0,D14=0,D15=0,D16=0) -> TRUE | E100: Controle alle spelers ingevuld
D102: Controle 14 verschillende codes
C103: 1 | D103: =LEFT(D3,3) | E103: =OR(D103=D$104,D103=D$105,D103=D$106,D103=D$107,D103=D$108,D103=D$109,D103=D$110,D103=D$111,D103=D$112,D103=D$113,D103=D$114,D103=D$115,D103=D$116) -> TRUE
C104: 2 | D104: =LEFT(D4,3) | E104: =OR(D104=D$103,D104=D$105,D104=D$106,D104=D$107,D104=D$108,D104=D$109,D104=D$110,D104=D$111,D104=D$112,D104=D$113,D104=D$114,D104=D$115,D104=D$116) -> TRUE
C105: 3 | D105: =LEFT(D5,3) | E105: =OR(D105=D$104,D105=D$103,D105=D$106,D105=D$107,D105=D$108,D105=D$109,D105=D$110,D105=D$111,D105=D$112,D105=D$113,D105=D$114,D105=D$115,D105=D$116) -> TRUE
C106: 4 | D106: =LEFT(D6,3) | E106: =OR(D106=D$104,D106=D$105,D106=D$103,D106=D$107,D106=D$108,D106=D$109,D106=D$110,D106=D$111,D106=D$112,D106=D$113,D106=D$114,D106=D$115,D106=D$116) -> TRUE
C107: 5 | D107: =LEFT(D7,3) | E107: =OR(D107=D$104,D107=D$105,D107=D$106,D107=D$103,D107=D$108,D107=D$109,D107=D$110,D107=D$111,D107=D$112,D107=D$113,D107=D$114,D107=D$115,D107=D$116) -> TRUE
C108: 6 | D108: =LEFT(D8,3) | E108: =OR(D108=D$104,D108=D$105,D108=D$106,D108=D$107,D108=D$103,D108=D$109,D108=D$110,D108=D$111,D108=D$112,D108=D$113,D108=D$114,D108=D$115,D108=D$116) -> TRUE
C109: 7 | D109: =LEFT(D9,3) | E109: =OR(D109=D$104,D109=D$105,D109=D$106,D109=D$107,D109=D$108,D109=D$103,D109=D$110,D109=D$111,D109=D$112,D109=D$113,D109=D$114,D109=D$115,D109=D$116) -> TRUE
C110: 8 | D110: =LEFT(D10,3) | E110: =OR(D110=D$104,D110=D$105,D110=D$106,D110=D$107,D110=D$108,D110=D$109,D110=D$103,D110=D$111,D110=D$112,D110=D$113,D110=D$114,D110=D$115,D110=D$116) -> TRUE
C111: 9 | D111: =LEFT(D11,3) | E111: =OR(D111=D$104,D111=D$105,D111=D$106,D111=D$107,D111=D$108,D111=D$109,D111=D$110,D111=D$103,D111=D$112,D111=D$113,D111=D$114,D111=D$115,D111=D$116) -> TRUE
C112: 10 | D112: =LEFT(D12,3) | E112: =OR(D112=D$104,D112=D$105,D112=D$106,D112=D$107,D112=D$108,D112=D$109,D112=D$110,D112=D$111,D112=D$103,D112=D$113,D112=D$114,D112=D$115,D112=D$116) -> TRUE
C113: 11 | D113: =LEFT(D13,3) | E113: =OR(D113=D$104,D113=D$105,D113=D$106,D113=D$107,D113=D$108,D113=D$109,D113=D$110,D113=D$111,D113=D$112,D113=D$103,D113=D$114,D113=D$115,D113=D$116) -> TRUE
C114: 12 | D114: =LEFT(D14,3) | E114: =OR(D114=D$104,D114=D$105,D114=D$106,D114=D$107,D114=D$108,D114=D$109,D114=D$110,D114=D$111,D114=D$112,D114=D$113,D114=D$103,D114=D$115,D114=D$116) -> TRUE
C115: 13 | D115: =LEFT(D15,3) | E115: =OR(D115=D$104,D115=D$105,D115=D$106,D115=D$107,D115=D$108,D115=D$109,D115=D$110,D115=D$111,D115=D$112,D115=D$113,D115=D$114,D115=D$103,D115=D$116) -> TRUE
C116: 14 | D116: =LEFT(D16,3) | E116: =OR(D116=D$104,D116=D$105,D116=D$106,D116=D$107,D116=D$108,D116=D$109,D116=D$110,D116=D$111,D116=D$112,D116=D$113,D116=D$114,D116=D$115,D116=D$103) -> TRUE
E117: =OR(E103=TRUE,E104=TRUE,E105=TRUE,E106=TRUE,E107=TRUE,E108=TRUE,E109=TRUE,E110=TRUE,E111=TRUE,E112=TRUE,E113=TRUE,E114=TRUE,E115=TRUE,E116=TRUE) -> TRUE
E118: =IF(E117=FALSE,"OK","XXX") -> XXX
D120: Controle verschillende linies
D121: =RIGHT(D3,2) | E121: =OR(G121=9,G121=8) -> FALSE | F121: =LEFT(D121,1) | G121: =IF(ISERROR(10-F121),"",10-F121)
D122: =RIGHT(D4,2) | E122: =OR(G122=7,G122=6) -> FALSE | F122: =LEFT(D122,1) | G122: =IF(ISERROR(10-F122),"",10-F122)
D123: =RIGHT(D5,2) | E123: =OR(G123=7,G123=6) -> FALSE | F123: =LEFT(D123,1) | G123: =IF(ISERROR(10-F123),"",10-F123)
D124: =RIGHT(D6,2) | E124: =OR(G124=7,G124=6) -> FALSE | F124: =LEFT(D124,1) | G124: =IF(ISERROR(10-F124),"",10-F124)
D125: =RIGHT(D7,2) | E125: =OR(G125=7,G125=6) -> FALSE | F125: =LEFT(D125,1) | G125: =IF(ISERROR(10-F125),"",10-F125)
D126: =RIGHT(D8,2) | E126: =OR(G126=5,G126=4) -> FALSE | F126: =LEFT(D126,1) | G126: =IF(ISERROR(10-F126),"",10-F126)
D127: =RIGHT(D9,2) | E127: =OR(G127=5,G127=4) -> FALSE | F127: =LEFT(D127,1) | G127: =IF(ISERROR(10-F127),"",10-F127)
D128: =RIGHT(D10,2) | E128: =OR(G128=5,G128=4) -> FALSE | F128: =LEFT(D128,1) | G128: =IF(ISERROR(10-F128),"",10-F128)
D129: =RIGHT(D11,2) | E129: =OR(G129=3,G129=2) -> FALSE | F129: =LEFT(D129,1) | G129: =IF(ISERROR(10-F129),"",10-F129)
D130: =RIGHT(D12,2) | E130: =OR(G130=3,G130=2) -> FALSE | F130: =LEFT(D130,1) | G130: =IF(ISERROR(10-F130),"",10-F130)
D131: =RIGHT(D13,2) | E131: =OR(G131=3,G131=2) -> FALSE | F131: =LEFT(D131,1) | G131: =IF(ISERROR(10-F131),"",10-F131)
D132: =RIGHT(D14,2) | E132: =OR(G132=7,G132=6) -> FALSE | F132: =LEFT(D132,1) | G132: =IF(ISERROR(10-F132),"",10-F132)
D133: =RIGHT(D15,2) | E133: =OR(G133=5,G133=4) -> FALSE | F133: =LEFT(D133,1) | G133: =IF(ISERROR(10-F133),"",10-F133)
D134: =RIGHT(D16,2) | E134: =OR(G134=3,G134=2) -> FALSE | F134: =LEFT(D134,1) | G134: =IF(ISERROR(10-F134),"",10-F134)
E135: =OR(E121=FALSE,E122=FALSE,E123=FALSE,E124=FALSE,E125=FALSE,E126=FALSE,E127=FALSE,E128=FALSE,E129=FALSE,E130=FALSE,E131=FALSE,E132=FALSE,E133=FALSE,E134=FALSE) -> TRUE
E136: =IF(E135=FALSE,"OK","XXX") -> XXX
C184: Kies… | D184: Nog niet ingevuld
C185: ADO | D185: ADO Den Haag
C186: AJA | D186: Ajax
C187: AZA | D187: AZ Alkmaar
C188: CAM | D188: Cambuur Leeuwarden
C189: EXC | D189: Excelsior
C190: FEY | D190: Feyenoord
C191: FOR | D191: Fortuna Sittard
C192: GAE | D192: Go Ahead Eagles
C193: GRO | D193: FC Groningen
C194: HEE | D194: SC Heerenveen
C195: NEC | D195: NEC Nijmegen
... C202: ZWO | D202: PEC Zwolle

Sheet 3 - Statistieken 25-26
A1: CODE | B1: SPELER | C1: LINIE | D1: Tot
A2: FEY | B2: Ayase Ueda | C2: AANV | D2: 157
A3: PSV | B3: Ismael Saibari | C3: MIDD | D3: 154
A4: PSV | B4: Guus Til | C4: MIDD | D4: 150
A5: AJA | B5: Mika Godts | C5: AANV | D5: 142
A6: PSV | B6: Joey Veerman | C6: MIDD | D6: 139
A7: PSV | B7: Ricardo Pepi | C7: AANV | D7: 126
A8: PSV | B8: Ivan Perisic | C8: AANV | D8: 119
A9: PSV | B9: Sven Mijnans | C9: MIDD | D9: 113
A10: TWE | B10: Kristian Hlynsson | C10: MIDD | D10: 113
A11: FEY | B11: Jordan Bos | C11: VERD | D11: 108
A12: NEC | B12: Bryan Linssen | C12: AANV | D12: 108
A13: FEY | B13: Anis Hadj-Moussa | C13: AANV | D13: 107
... A521: ZWO | B521: David Voute | C521: VERD | D521: -4
